BEGIN:VCALENDAR
VERSION:2.0
PRODID:-//NW LGBTQ+ Senior Care - ECPv6.15.13.1//NONSGML v1.0//EN
CALSCALE:GREGORIAN
METHOD:PUBLISH
X-WR-CALNAME:NW LGBTQ+ Senior Care
X-ORIGINAL-URL:https://nwlgbtseniorcare.org
X-WR-CALDESC:Events for NW LGBTQ+ Senior Care
REFRESH-INTERVAL;VALUE=DURATION:PT1H
X-Robots-Tag:noindex
X-PUBLISHED-TTL:PT1H
BEGIN:VTIMEZONE
TZID:America/Los_Angeles
BEGIN:DAYLIGHT
TZOFFSETFROM:-0800
TZOFFSETTO:-0700
TZNAME:PDT
DTSTART:20240310T100000
END:DAYLIGHT
BEGIN:STANDARD
TZOFFSETFROM:-0700
TZOFFSETTO:-0800
TZNAME:PST
DTSTART:20241103T090000
END:STANDARD
BEGIN:DAYLIGHT
TZOFFSETFROM:-0800
TZOFFSETTO:-0700
TZNAME:PDT
DTSTART:20250309T100000
END:DAYLIGHT
BEGIN:STANDARD
TZOFFSETFROM:-0700
TZOFFSETTO:-0800
TZNAME:PST
DTSTART:20251102T090000
END:STANDARD
BEGIN:DAYLIGHT
TZOFFSETFROM:-0800
TZOFFSETTO:-0700
TZNAME:PDT
DTSTART:20260308T100000
END:DAYLIGHT
BEGIN:STANDARD
TZOFFSETFROM:-0700
TZOFFSETTO:-0800
TZNAME:PST
DTSTART:20261101T090000
END:STANDARD
END:VTIMEZONE
BEGIN:VEVENT
DTSTART;TZID=America/Los_Angeles:20250611T110000
DTEND;TZID=America/Los_Angeles:20250611T140000
DTSTAMP:20260421T212417
CREATED:20250727T052353Z
LAST-MODIFIED:20250727T052422Z
UID:1053-1749639600-1749650400@nwlgbtseniorcare.org
SUMMARY:Truewood by Merrill\, First Hill - June 11\, 2025
DESCRIPTION:Truewood Pride\nOlder & Bolder – Celebrate Pride on the Hill!\nJoin us as we usher in Pride at First Hill!\nEnjoy a kick-off event at our community with great food from Chef Sami and a visit from special guest David Haack\, founder of NW LGBT Senior Care Providers Network\, who will share his thoughts about the importance of Pride and the signficance of this moment in time. All month long\, we’ll be recognizing our senior elders in the LGBTQ+ community\, honoring a history that they helped forge\, and celebrating their stories. RSVP to marketing\, firsthill@merrillgardens.com\, by June 7.
URL:https://nwlgbtseniorcare.org/event/truewood-by-merrill-first-hill-20250611/
LOCATION:Truewood by Merrill\, First Hill\, 1421 Minor Avenue\, Seattle\, WA\, 98101\, United States
END:VEVENT
BEGIN:VEVENT
DTSTART;TZID=America/Los_Angeles:20250627T090000
DTEND;TZID=America/Los_Angeles:20250627T103000
DTSTAMP:20260421T212417
CREATED:20250727T052019Z
LAST-MODIFIED:20250727T054749Z
UID:1050-1751014800-1751020200@nwlgbtseniorcare.org
SUMMARY:Truewood by Merrill\, First Hill - June 27\, 2025
DESCRIPTION:PRIDE!!
URL:https://nwlgbtseniorcare.org/event/truewood-by-merrill-first-hill-20250627/
LOCATION:Truewood by Merrill\, First Hill\, 1421 Minor Avenue\, Seattle\, WA\, 98101\, United States
END:VEVENT
BEGIN:VEVENT
DTSTART;VALUE=DATE:20250629
DTEND;VALUE=DATE:20250630
DTSTAMP:20260421T212417
CREATED:20250727T051706Z
LAST-MODIFIED:20250727T051733Z
UID:1048-1751155200-1751241599@nwlgbtseniorcare.org
SUMMARY:Seattle Pride Parade - June 29\, 2025
DESCRIPTION:SPACE ASSIGNMENT – BLOCK 4B – SPRING (EAST)\nARRIVAL TIME:\nVehicle: 9:30AM – 10:30AM\nFabulous NW LGBT Senior Care Network Marchers:11:15AM – 11:45AM
URL:https://nwlgbtseniorcare.org/event/seattle-pride-parade-20250629/
LOCATION:WA
END:VEVENT
END:VCALENDAR