BEGIN:VCALENDAR
VERSION:2.0
PRODID:-//NW LGBTQ+ Senior Care - ECPv6.15.13.1//NONSGML v1.0//EN
CALSCALE:GREGORIAN
METHOD:PUBLISH
X-WR-CALNAME:NW LGBTQ+ Senior Care
X-ORIGINAL-URL:https://nwlgbtseniorcare.org
X-WR-CALDESC:Events for NW LGBTQ+ Senior Care
REFRESH-INTERVAL;VALUE=DURATION:PT1H
X-Robots-Tag:noindex
X-PUBLISHED-TTL:PT1H
BEGIN:VTIMEZONE
TZID:America/Los_Angeles
BEGIN:DAYLIGHT
TZOFFSETFROM:-0800
TZOFFSETTO:-0700
TZNAME:PDT
DTSTART:20250309T100000
END:DAYLIGHT
BEGIN:STANDARD
TZOFFSETFROM:-0700
TZOFFSETTO:-0800
TZNAME:PST
DTSTART:20251102T090000
END:STANDARD
BEGIN:DAYLIGHT
TZOFFSETFROM:-0800
TZOFFSETTO:-0700
TZNAME:PDT
DTSTART:20260308T100000
END:DAYLIGHT
BEGIN:STANDARD
TZOFFSETFROM:-0700
TZOFFSETTO:-0800
TZNAME:PST
DTSTART:20261101T090000
END:STANDARD
BEGIN:DAYLIGHT
TZOFFSETFROM:-0800
TZOFFSETTO:-0700
TZNAME:PDT
DTSTART:20270314T100000
END:DAYLIGHT
BEGIN:STANDARD
TZOFFSETFROM:-0700
TZOFFSETTO:-0800
TZNAME:PST
DTSTART:20271107T090000
END:STANDARD
END:VTIMEZONE
BEGIN:VEVENT
DTSTART;TZID=America/Los_Angeles:20260227T090000
DTEND;TZID=America/Los_Angeles:20260227T103000
DTSTAMP:20260421T110905
CREATED:20260119T214734Z
LAST-MODIFIED:20260119T215236Z
UID:1737-1772182800-1772188200@nwlgbtseniorcare.org
SUMMARY:2/27/26 - NWLGBT SCPN Monthly Meeting
DESCRIPTION:
URL:https://nwlgbtseniorcare.org/event/2-27-26-nwlgbt-scpn-monthly-meeting/
LOCATION:Merrill Gardens at Tukwila\, 112 Andover Park E\, Tukwila\, WA\, 98188\, United States
END:VEVENT
BEGIN:VEVENT
DTSTART;TZID=America/Los_Angeles:20260327T090000
DTEND;TZID=America/Los_Angeles:20260327T103000
DTSTAMP:20260421T110905
CREATED:20260119T215734Z
LAST-MODIFIED:20260324T204145Z
UID:1744-1774602000-1774607400@nwlgbtseniorcare.org
SUMMARY:3/27/26 - NWLGBT SCPN Monthly Meeting
DESCRIPTION:
URL:https://nwlgbtseniorcare.org/event/3-27-26-nwlgbt-scpn-monthly-meeting/
LOCATION:Aegis Living Ballard\, 949 NW Market St\, Seattle\, WA\, 98107\, United States
END:VEVENT
BEGIN:VEVENT
DTSTART;TZID=America/Los_Angeles:20260424T090000
DTEND;TZID=America/Los_Angeles:20260424T103000
DTSTAMP:20260421T110905
CREATED:20260119T220117Z
LAST-MODIFIED:20260310T194423Z
UID:1749-1777021200-1777026600@nwlgbtseniorcare.org
SUMMARY:4/24/26 - NWLGBT SCPN Monthly Meeting
DESCRIPTION:
URL:https://nwlgbtseniorcare.org/event/4-24-26-nwlgbt-scpn-monthly-meeting/
LOCATION:Aegis Living Greenwood\, 10000 Holman Road NW\, Seattle\, WA\, 98177\, United States
END:VEVENT
BEGIN:VEVENT
DTSTART;TZID=America/Los_Angeles:20260522T090000
DTEND;TZID=America/Los_Angeles:20260522T103000
DTSTAMP:20260421T110905
CREATED:20260119T220917Z
LAST-MODIFIED:20260310T194825Z
UID:1756-1779440400-1779445800@nwlgbtseniorcare.org
SUMMARY:5/22/26 - NWLGBT SCPN Monthly Meeting
DESCRIPTION:
URL:https://nwlgbtseniorcare.org/event/5-22-26-nwlgbt-scpn-monthly-meeting/
LOCATION:Merrill Gardens University\, 5300 24th Avenue NE\, Seattle\, WA\, 98105\, United States
END:VEVENT
BEGIN:VEVENT
DTSTART;TZID=America/Los_Angeles:20260626T090000
DTEND;TZID=America/Los_Angeles:20260626T103000
DTSTAMP:20260421T110905
CREATED:20260119T221113Z
LAST-MODIFIED:20260119T221320Z
UID:1762-1782464400-1782469800@nwlgbtseniorcare.org
SUMMARY:6/26/26 - NWLGBT SCPN Monthly Meeting
DESCRIPTION:
URL:https://nwlgbtseniorcare.org/event/6-26-26-nwlgbt-scpn-monthly-meeting/
LOCATION:Aegis Living Madison\, 2200 E Madison St\, Seattle\, WA\, 98112\, United States
END:VEVENT
BEGIN:VEVENT
DTSTART;TZID=America/Los_Angeles:20260724T090000
DTEND;TZID=America/Los_Angeles:20260724T103000
DTSTAMP:20260421T110905
CREATED:20260119T221424Z
LAST-MODIFIED:20260127T043842Z
UID:1768-1784883600-1784889000@nwlgbtseniorcare.org
SUMMARY:7/24/26 - NWLGBT SCPN Monthly Meeting
DESCRIPTION:
URL:https://nwlgbtseniorcare.org/event/7-24-26-nwlgbt-scpn-monthly-meeting/
LOCATION:Northgate Plaza MBK Senior Living\, 11030 5th Avenue NE\, Seattle\, WA\, 98125\, United States
END:VEVENT
BEGIN:VEVENT
DTSTART;TZID=America/Los_Angeles:20260828T090000
DTEND;TZID=America/Los_Angeles:20260828T103000
DTSTAMP:20260421T110905
CREATED:20260119T221524Z
LAST-MODIFIED:20260312T212500Z
UID:1772-1787907600-1787913000@nwlgbtseniorcare.org
SUMMARY:8/28/26 - NWLGBT SCPN Monthly Meeting
DESCRIPTION:
URL:https://nwlgbtseniorcare.org/event/8-28-26-nwlgbt-scpn-monthly-meeting/
LOCATION:Vineyard Park at Queen Anne Manor\, 100 Crockett St\, Seattle\, WA\, 98109\, United States
END:VEVENT
BEGIN:VEVENT
DTSTART;TZID=America/Los_Angeles:20260925T090000
DTEND;TZID=America/Los_Angeles:20260925T103000
DTSTAMP:20260421T110905
CREATED:20260119T221629Z
LAST-MODIFIED:20260119T221629Z
UID:1776-1790326800-1790332200@nwlgbtseniorcare.org
SUMMARY:9/25/26 - NWLGBT SCPN Monthly Meeting
DESCRIPTION:
URL:https://nwlgbtseniorcare.org/event/9-25-26-nwlgbt-scpn-monthly-meeting/
LOCATION:Aegis Living Laurelhurst\, 3200 NE 45th St\, Seattle\, WA\, 98105\, United States
END:VEVENT
BEGIN:VEVENT
DTSTART;TZID=America/Los_Angeles:20261023T090000
DTEND;TZID=America/Los_Angeles:20261023T103000
DTSTAMP:20260421T110905
CREATED:20260119T221726Z
LAST-MODIFIED:20260312T212850Z
UID:1780-1792746000-1792751400@nwlgbtseniorcare.org
SUMMARY:10/23/26 - NWLGBT SCPN Monthly Meeting
DESCRIPTION:
URL:https://nwlgbtseniorcare.org/event/10-23-26-nwlgbt-scpn-monthly-meeting/
LOCATION:Gencare Lifestyles at Ballard Landmark\, 5433 Leary Ave NW\, Seattle\, WA\, 98107\, United States
END:VEVENT
BEGIN:VEVENT
DTSTART;TZID=America/Los_Angeles:20261120T090000
DTEND;TZID=America/Los_Angeles:20261120T103000
DTSTAMP:20260421T110905
CREATED:20260119T221827Z
LAST-MODIFIED:20260312T213218Z
UID:1784-1795165200-1795170600@nwlgbtseniorcare.org
SUMMARY:11/20/26 - NWLGBT SCPN Monthly Meeting
DESCRIPTION:
URL:https://nwlgbtseniorcare.org/event/11-20-26-nwlgbt-scpn-monthly-meeting/
LOCATION:Mirabella Seattle\, 116 Fairview Ave N\, Seattle\, WA\, 98109\, United States
END:VEVENT
END:VCALENDAR