BEGIN:VCALENDAR
VERSION:2.0
PRODID:-//NW LGBTQ+ Senior Care - ECPv6.15.13.1//NONSGML v1.0//EN
CALSCALE:GREGORIAN
METHOD:PUBLISH
X-WR-CALNAME:NW LGBTQ+ Senior Care
X-ORIGINAL-URL:https://nwlgbtseniorcare.org
X-WR-CALDESC:Events for NW LGBTQ+ Senior Care
REFRESH-INTERVAL;VALUE=DURATION:PT1H
X-Robots-Tag:noindex
X-PUBLISHED-TTL:PT1H
BEGIN:VTIMEZONE
TZID:America/Los_Angeles
BEGIN:DAYLIGHT
TZOFFSETFROM:-0800
TZOFFSETTO:-0700
TZNAME:PDT
DTSTART:20240310T100000
END:DAYLIGHT
BEGIN:STANDARD
TZOFFSETFROM:-0700
TZOFFSETTO:-0800
TZNAME:PST
DTSTART:20241103T090000
END:STANDARD
BEGIN:DAYLIGHT
TZOFFSETFROM:-0800
TZOFFSETTO:-0700
TZNAME:PDT
DTSTART:20250309T100000
END:DAYLIGHT
BEGIN:STANDARD
TZOFFSETFROM:-0700
TZOFFSETTO:-0800
TZNAME:PST
DTSTART:20251102T090000
END:STANDARD
BEGIN:DAYLIGHT
TZOFFSETFROM:-0800
TZOFFSETTO:-0700
TZNAME:PDT
DTSTART:20260308T100000
END:DAYLIGHT
BEGIN:STANDARD
TZOFFSETFROM:-0700
TZOFFSETTO:-0800
TZNAME:PST
DTSTART:20261101T090000
END:STANDARD
END:VTIMEZONE
BEGIN:VEVENT
DTSTART;TZID=America/Los_Angeles:20250918T180000
DTEND;TZID=America/Los_Angeles:20250918T200000
DTSTAMP:20260421T081641
CREATED:20250915T191439Z
LAST-MODIFIED:20250915T191645Z
UID:1579-1758218400-1758225600@nwlgbtseniorcare.org
SUMMARY:Recompose
DESCRIPTION:Recompose has designed a paradigm-shifting process for environmental death care that mimics the earth’s natural cycles. Please join local arts\, culture\, queer-led\, female-founded\, and business-for-good communities on Thursday\, Sept 18\, from 6 to 8 pm to: \nHonor natural resources • Nurture radical imagination • Support shared growth. \nCelebrate life with Champagne toasts (or non-alcoholic bubbles) and cookies from Grand Central Bakery. Two hand-poked tattoo artists will be offering small branch tattoos\, and artist Sarah Kavage will share a look back at 2015’s Duwamish Revisited\, a year-long public art project featuring more than 100 artists that fostered dialogue and community activism along the Duwamish River\, just 500 feet from the Recompose facility.
URL:https://nwlgbtseniorcare.org/event/recompose/
LOCATION:Recompose Ecosystem Open House\, 4 S. Idaho St\, Seattle\, WA\, 98134\, United States
END:VEVENT
END:VCALENDAR