BEGIN:VCALENDAR
VERSION:2.0
PRODID:-//NW LGBTQ+ Senior Care - ECPv6.15.13.1//NONSGML v1.0//EN
CALSCALE:GREGORIAN
METHOD:PUBLISH
X-WR-CALNAME:NW LGBTQ+ Senior Care
X-ORIGINAL-URL:https://nwlgbtseniorcare.org
X-WR-CALDESC:Events for NW LGBTQ+ Senior Care
REFRESH-INTERVAL;VALUE=DURATION:PT1H
X-Robots-Tag:noindex
X-PUBLISHED-TTL:PT1H
BEGIN:VTIMEZONE
TZID:America/Los_Angeles
BEGIN:DAYLIGHT
TZOFFSETFROM:-0800
TZOFFSETTO:-0700
TZNAME:PDT
DTSTART:20240310T100000
END:DAYLIGHT
BEGIN:STANDARD
TZOFFSETFROM:-0700
TZOFFSETTO:-0800
TZNAME:PST
DTSTART:20241103T090000
END:STANDARD
BEGIN:DAYLIGHT
TZOFFSETFROM:-0800
TZOFFSETTO:-0700
TZNAME:PDT
DTSTART:20250309T100000
END:DAYLIGHT
BEGIN:STANDARD
TZOFFSETFROM:-0700
TZOFFSETTO:-0800
TZNAME:PST
DTSTART:20251102T090000
END:STANDARD
BEGIN:DAYLIGHT
TZOFFSETFROM:-0800
TZOFFSETTO:-0700
TZNAME:PDT
DTSTART:20260308T100000
END:DAYLIGHT
BEGIN:STANDARD
TZOFFSETFROM:-0700
TZOFFSETTO:-0800
TZNAME:PST
DTSTART:20261101T090000
END:STANDARD
END:VTIMEZONE
BEGIN:VEVENT
DTSTART;TZID=America/Los_Angeles:20250730T180000
DTEND;TZID=America/Los_Angeles:20250730T190000
DTSTAMP:20260421T083356
CREATED:20250727T184540Z
LAST-MODIFIED:20250728T184026Z
UID:1080-1753898400-1753902000@nwlgbtseniorcare.org
SUMMARY:Wednesday July 30\, 2025 Event (former 28th event)
DESCRIPTION:
URL:https://nwlgbtseniorcare.org/event/monday-july-28-2025-event/
LOCATION:Aegis Living Greenwood\, 10000 Holman Road NW\, Seattle\, WA\, 98177\, United States
END:VEVENT
END:VCALENDAR